BEGIN:VCALENDAR
VERSION:2.0
PRODID:-//wp-events-plugin.com//6.4.6.4//EN
BEGIN:VEVENT
UID:9@presbiteriszovetseg.hu
DTSTART;TZID=Europe/Budapest;VALUE=DATE:20230601
DTEND;TZID=Europe/Budapest;VALUE=DATE:20230615
DTSTAMP:20230210T190952Z
URL:https://presbiteriszovetseg.hu/events/egyhazmegyei-konferenciak/
SUMMARY:Egyházmegyei Konferenciák
DESCRIPTION:
END:VEVENT
BEGIN:VTIMEZONE
TZID:Europe/Budapest
X-LIC-LOCATION:Europe/Budapest
BEGIN:DAYLIGHT
DTSTART:20230326T030000
TZOFFSETFROM:+0100
TZOFFSETTO:+0200
TZNAME:CEST
END:DAYLIGHT
END:VTIMEZONE
END:VCALENDAR