BEGIN:VCALENDAR
VERSION:2.0
PRODID:-//wp-events-plugin.com//6.4.6.4//EN
BEGIN:VEVENT
UID:14@presbiteriszovetseg.hu
DTSTART;TZID=Europe/Budapest;VALUE=DATE:20251017
DTEND;TZID=Europe/Budapest;VALUE=DATE:20251020
DTSTAMP:20251003T161516Z
URL:https://presbiteriszovetseg.hu/events/mrpsz_oszi-lelki-hetvege-lelkise
 g-a-presbiteriumban-4/
SUMMARY:MRPSZ_Őszi Lelki Hétvége - Lelkiség a presbitériumban 4.
DESCRIPTION:Kedves Testvérünk!\n\nSzeretettel hívjuk a Magyarországi Re
 formátus Presbiteri Szövetség 2025. évi őszi lelki hétvégéjére!\n
 \n 	Téma: Lelki beszélgetések a gyülekezetben\n 	Részvételi díj 42.
 000 Ft fő/2 éj (IFA-val együtt)\n 	MRPSZ tagoknak 25%-os kedvezménnyel
 : 31.500 Ft fő/2 éj (IFA-val együtt)\n\nTovábbi részletek és jelentk
 ezés:\nMRPSZ 2025. Őszi Lelki Hétvége
ATTACH;FMTTYPE=image/jpeg:https://presbiteriszovetseg.hu/wp-content/upload
 s/2024/09/IMG_2774-scaled.jpg
LOCATION:Balatonszárszó\, SDG Hotel\, Csárda u. 41.\, Balatonszárszó\,
  8624\, Magyarország
X-APPLE-STRUCTURED-LOCATION;VALUE=URI;X-ADDRESS=Csárda u. 41.\, Balatonsz
 árszó\, 8624\, Magyarország;X-APPLE-RADIUS=100;X-TITLE=Balatonszárszó
 \, SDG Hotel:geo:0,0
END:VEVENT
BEGIN:VTIMEZONE
TZID:Europe/Budapest
X-LIC-LOCATION:Europe/Budapest
BEGIN:DAYLIGHT
DTSTART:20250330T030000
TZOFFSETFROM:+0100
TZOFFSETTO:+0200
TZNAME:CEST
END:DAYLIGHT
END:VTIMEZONE
END:VCALENDAR